BEGIN:VCALENDAR
VERSION:2.0
PRODID:-//wp-events-plugin.com//7.2.3.1//EN
TZID:Europe/Berlin
X-WR-TIMEZONE:Europe/Berlin
BEGIN:VEVENT
UID:0-2@urologiebeirat.de
DTSTART:20130601T150000Z
DTEND:20130601T170000Z
DTSTAMP:20190901T232845Z
URL:https://urologiebeirat.de/veranstaltungen/1-sitzung-des-urologiebeirat
 s/
SUMMARY:1. Sitzung des Urologiebeirats
DESCRIPTION:Es handelt sich in erster Linie um eine Informationsveranstaltu
 ng.\n\nDie 2. Sitzung des Urologieberates wird am 24. September 2013 statt
 finden.
LOCATION:#_LOCATIONNAME\, #_LOCATIONFULLLINE\, #_LOCATIONCOUNTRY
X-APPLE-STRUCTURED-LOCATION;VALUE=URI;X-ADDRESS=#_LOCATIONFULLLINE\, #_LOCA
 TIONCOUNTRY;X-APPLE-RADIUS=100;X-TITLE=#_LOCATIONNAME:geo:0,0
END:VEVENT
END:VCALENDAR