BEGIN:VCALENDAR
VERSION:2.0
PRODID:-//wp-events-plugin.com//7.2.3.1//EN
TZID:Europe/Berlin
X-WR-TIMEZONE:Europe/Berlin
BEGIN:VEVENT
UID:0-26@urologiebeirat.de
DTSTART;TZID=Europe/Berlin:20250916T160000
DTEND;TZID=Europe/Berlin:20250916T180000
DTSTAMP:20250731T064048Z
URL:https://urologiebeirat.de/veranstaltungen/24-sitzung-urologiebeirat-ag
 ieren-anstelle-reagieren-neustart-im-gesundheitswesen/
SUMMARY:24. Sitzung UrologieBeirat: Agieren anstelle Reagieren: Neustart im
  Gesundheitswesen
DESCRIPTION:Wie kann der Neustart im Gesundheitswesen gelingen? Das diskuti
 eren die Mitglieder des UrologieBeirats in ihrer Sitzung im September 2025
  mit folgenden Schwerpunkten:\n\n 	Primärarztsystem\n 	Hybrid-DRG\n 	Kran
 kenhausreform\n 	GOÄneu\n\nIm Anschluss der Sitzung folgt der weitere Aus
 tausch unter den Mitgliedern des UrologieBeirats.\n\nWie immer werden die 
 Mitglieder des UrologieBeirats gesondert eingeladen.
END:VEVENT
BEGIN:VEVENT
UID:0-25@urologiebeirat.de
DTSTART;TZID=Europe/Berlin:20240924T160000
DTEND;TZID=Europe/Berlin:20240924T180000
DTSTAMP:20240826T122233Z
URL:https://urologiebeirat.de/veranstaltungen/23-sitzung-urologiebeirat-oe
 konomisierung-der-medizin-zukuenftige-kooperationsmodelle-zwischen-berufsv
 erband-und-industrie/
SUMMARY:23. Sitzung UrologieBeirat: Ökonomisierung der Medizin - Zukünfti
 ge Kooperationsmodelle zwischen Berufsverband und Industrie
DESCRIPTION:Ökonomisierung der Medizin - Zukünftige Kooperationsmodelle z
 wischen Berufsverband und Industrie\nWie immer werden die Mitglieder des U
 rologieBeirats gesondert eingeladen.\n\nKurze Zusatzinfo hier...
END:VEVENT
BEGIN:VEVENT
UID:0-24@urologiebeirat.de
DTSTART;TZID=Europe/Berlin:20240705T160000
DTEND;TZID=Europe/Berlin:20240705T180000
DTSTAMP:20240826T120241Z
URL:https://urologiebeirat.de/veranstaltungen/22-sitzung-urologiebeirat-ve
 rtagt/
SUMMARY:22. Sitzung UrologieBeirat: vertagt
DESCRIPTION:Diese Veranstaltung musste leider vertagt werden.\n\nDie Mitgli
 eder des Urologiebeirates werden zu gegebener Zeit gesondert eingeladen.
END:VEVENT
BEGIN:VEVENT
UID:0-23@urologiebeirat.de
DTSTART;TZID=Europe/Berlin:20230919T160000
DTEND;TZID=Europe/Berlin:20230919T180000
DTSTAMP:20240826T115937Z
URL:https://urologiebeirat.de/veranstaltungen/21-sitzung-urologiebeirat-qu
 o-vadis-freiberuflichkeit-wie-frei-ist-der-aerztliche-beruf-tatsaechlich/
SUMMARY:21. Sitzung UrologieBeirat: Quo vadis Freiberuflichkeit? – Wie fr
 ei ist der ärztliche Beruf tatsächlich?
DESCRIPTION:Quo vadis Freiberuflichkeit? – Wie frei ist der ärztliche Be
 ruf tatsächlich?\nWie immer werden die Mitglieder des Urologiebeirates ge
 sondert eingeladen.
END:VEVENT
BEGIN:VEVENT
UID:0-21@urologiebeirat.de
DTSTART;TZID=Europe/Berlin:20220920T160000
DTEND;TZID=Europe/Berlin:20220920T180000
DTSTAMP:20230221T115751Z
URL:https://urologiebeirat.de/veranstaltungen/20-sitzung-urologiebeirat-am
 bulante-spezialfachaerztliche-versorgung-asv-in-der-urologie-euphorie-oder
 -ernuechterung/
SUMMARY:20. Sitzung UrologieBeirat: Ambulante Spezialfachärztliche Versorg
 ung (ASV) in der Urologie – Euphorie oder Ernüchterung?
DESCRIPTION:Ambulante Spezialfachärztliche Versorgung (ASV) in der Urologi
 e – Euphorie oder Ernüchterung?\nWie immer werden die Mitglieder des Ur
 ologiebeirates gesondert eingeladen.\n\nNachlese hier
END:VEVENT
BEGIN:VEVENT
UID:0-20@urologiebeirat.de
DTSTART;TZID=Europe/Berlin:20220706T153000
DTEND;TZID=Europe/Berlin:20220706T173000
DTSTAMP:20230221T115849Z
URL:https://urologiebeirat.de/veranstaltungen/19-sitzung-urologiebeirat-ge
 setzliches-lobbyregister-und-freiwillige-transparenzkodizes/
SUMMARY:19. Sitzung UrologieBeirat: "Gesetzliches Lobbyregister und freiwil
 lige Transparenzkodizes"
DESCRIPTION:Auswirkung und Bedeutung von gewollter Offenheit im Zusammenspi
 el der Akteure\nWie immer werden die Mitglieder des Urologiebeirates geson
 dert eingeladen.
END:VEVENT
BEGIN:VEVENT
UID:0-19@urologiebeirat.de
DTSTART;TZID=Europe/Berlin:20210914T160000
DTEND;TZID=Europe/Berlin:20210914T173000
DTSTAMP:20230221T115854Z
URL:https://urologiebeirat.de/veranstaltungen/18-sitzung-urologiebeirat-ro
 undtable-gespraech/
SUMMARY:18. Sitzung UrologieBeirat: Roundtable-Gespräch
DESCRIPTION:Thema: "Die Zukunft des Arzt-Industrie-Kontaktes - digital und/
 oder persönlich?"\nTermin: 14.09.2021\, 16:00 bis 17:30 Uhr\nOrt: Wie in 
 der Einladung benannt\, Stuttgart\n\nWie immer werden die Mitglieder des U
 rologiebeirates gesondert eingeladen.
END:VEVENT
BEGIN:VEVENT
UID:0-18@urologiebeirat.de
DTSTART;TZID=Europe/Berlin:20210630T150000
DTEND;TZID=Europe/Berlin:20210630T163000
DTSTAMP:20210629T073508Z
URL:https://urologiebeirat.de/veranstaltungen/17-sitzung-urologiebeirat-on
 line-gotomeeting/
SUMMARY:17. Sitzung UrologieBeirat | Online | GoToMeeting
DESCRIPTION:Thema: Ein Jahr Corona - was haben wir gelernt?\nErfahrungen un
 d Auswirkungen auf die urologische Fachärzteschaft aus dem Blickwinkel de
 r Beteiligten.\n\nWie immer werden die Mitglieder des Urologiebeirates ges
 ondert eingeladen.
END:VEVENT
BEGIN:VEVENT
UID:0-17@urologiebeirat.de
DTSTART;TZID=Europe/Berlin:20201216T150000
DTEND;TZID=Europe/Berlin:20201216T170000
DTSTAMP:20201207T144213Z
URL:https://urologiebeirat.de/veranstaltungen/16-sitzung-urologiebeirat-vi
 deokonferenz/
SUMMARY:16. Sitzung UrologieBeirat / Videokonferenz
DESCRIPTION:Thema: Zukunftsweisende Zusammenarbeit von Ärzteschaft/ Berufs
 verband und Gesundheitsindustrie - während und nach Corona.\n\nNotwendige
  Anpassungen und mögliche Optionen aus dem Blickwinkel der Beteiligten.\n
 \nWie immer werden die Urologiebeiratsmitglieder noch gesondert eingeladen
 .
END:VEVENT
BEGIN:VEVENT
UID:0-16@urologiebeirat.de
DTSTART;TZID=Europe/Berlin:20201117T163000
DTEND;TZID=Europe/Berlin:20201117T180000
DTSTAMP:20201103T082352Z
URL:https://urologiebeirat.de/veranstaltungen/15-sitzung-des-urologiebeira
 ts-der-mehrwert-der-versorgungsforschung/
SUMMARY:15. Sitzung des Urologiebeirats: „Der Mehrwert der Versorgungsfor
 schung“
DESCRIPTION:Thema: „Der Mehrwert der Versorgungsforschung“\nEinblicke i
 n die Erwartungshaltungen der Stakeholder.\nTermin: 17.11.2020\, 16.30 bis
  18.00 Uhr\n\nOrt: Wie in der Einladung benannt
END:VEVENT
BEGIN:VEVENT
UID:0-14@urologiebeirat.de
DTSTART:20190917T140000Z
DTEND:20190917T160000Z
DTSTAMP:20190901T232845Z
URL:https://urologiebeirat.de/veranstaltungen/14-sitzung-des-urologiebeira
 ts-nutzenbewertung/
SUMMARY:14. Sitzung des Urologiebeirats:  „Nutzenbewertung“
DESCRIPTION:„Nutzenbewertung“\n\nWissenschaftliche Studie vs. Versorgun
 gsforschung aus Sicht der Nutzenbewertung:\n\nWie bestätigt sich ein Zusa
 tznutzen für den Versorgungsalltag? \n\nTermin: 17.09.2019\, 16:00 bis 1
 8:00 Uhr\nOrt: Wie in der Einladung benannt\, Hamburg\n\n
LOCATION:#_LOCATIONNAME\, #_LOCATIONFULLLINE\, #_LOCATIONCOUNTRY
X-APPLE-STRUCTURED-LOCATION;VALUE=URI;X-ADDRESS=#_LOCATIONFULLLINE\, #_LOCA
 TIONCOUNTRY;X-APPLE-RADIUS=100;X-TITLE=#_LOCATIONNAME:geo:0,0
END:VEVENT
BEGIN:VEVENT
UID:0-13@urologiebeirat.de
DTSTART:20190514T150000Z
DTEND:20190514T170000Z
DTSTAMP:20190901T232845Z
URL:https://urologiebeirat.de/veranstaltungen/13-sitzung-des-urologiebeira
 ts/
SUMMARY:13. Sitzung des Urologiebeirats:  „Digitalisierung im Gesundheits
 wesen“
DESCRIPTION:Thema: „Digitalisierung im Gesundheitswesen“\nWelche Chance
 n\, Herausforderungen und Risiken bergen Telematikinfrastruktur\, elektron
 ische Patientenakte &amp\; Co.?\nIm Fokus der 13. Sitzung unseres Urologie
 Beirats steht die digitale Zukunft im Gesundheitswesen. Schätzungen zufol
 ge können durch digitale Technologien im deutschen Gesundheitssektor bis 
 zu 34 Mrd. Euro jährlich eingespart werden. Das größte Nutzenpotenzial 
 bieten dabei die elektronische Patientenakte und elektronische Rezepte sow
 ie webbasierte Interaktionen zwischen Arzt und Patient. \n\nDas Terminserv
 ice- und Versorgungsgesetz (TSVG) ist dafür ein Wegbereiter: Es soll nich
 t nur den schnelleren Zugang zu Arztterminen ermöglichen\, sondern auch d
 ie Einführung von elektronischer Gesundheitskarte und Patientenakte besch
 leunigen. Die Digitalisierung im Gesundheitswesen ist ein viel diskutierte
 s Thema\, das insbesondere hinsichtlich des Eingriffs in die ärztliche Se
 lbstverwaltung sowie datenschutzrechtlicher Aspekte bei der Telematikinfra
 struktur spaltet. \n\nTermin: 14.05.2019\, 17:00 bis 19:00 Uhr\nVeranstal
 tungsort: Berlin\n\nBitte entnehmen Sie die weiteren Informationen Ihrer 
 persönlichen Einladung!\n\n
LOCATION:#_LOCATIONNAME\, #_LOCATIONFULLLINE\, #_LOCATIONCOUNTRY
X-APPLE-STRUCTURED-LOCATION;VALUE=URI;X-ADDRESS=#_LOCATIONFULLLINE\, #_LOCA
 TIONCOUNTRY;X-APPLE-RADIUS=100;X-TITLE=#_LOCATIONNAME:geo:0,0
END:VEVENT
BEGIN:VEVENT
UID:0-12@urologiebeirat.de
DTSTART:20180925T140000Z
DTEND:20180925T160000Z
DTSTAMP:20190901T232845Z
URL:https://urologiebeirat.de/veranstaltungen/12-sitzung-des-urologiebeira
 ts/
SUMMARY:12. Sitzung des Urologiebeirats
DESCRIPTION:„Ökonomie und Gesundheitswesen – wieviel Ökonomie verträ
 gt unser Gesundheitswesen?!“\nRahmenbedingungen für eine zukunftsweisen
 de Versorgungsforschung\n\nIn unserer 12. Sitzung des Urologiebeirats setz
 en wir das Leitthema der 11. Sitzung fort und beleuchten es unter dem Blic
 kwinkel der Versorgungsforschung.\n\nTermin: 25.09.2018\, 16:00 bis 18:00
  Uhr\nVeranstaltungsort: Dresden\n\nBitte entnehmen Sie die weiteren Info
 rmationen Ihrer persönlichen Einladung!
LOCATION:#_LOCATIONNAME\, #_LOCATIONFULLLINE\, #_LOCATIONCOUNTRY
X-APPLE-STRUCTURED-LOCATION;VALUE=URI;X-ADDRESS=#_LOCATIONFULLLINE\, #_LOCA
 TIONCOUNTRY;X-APPLE-RADIUS=100;X-TITLE=#_LOCATIONNAME:geo:0,0
END:VEVENT
BEGIN:VEVENT
UID:0-11@urologiebeirat.de
DTSTART:20180516T140000Z
DTEND:20180516T160000Z
DTSTAMP:20190901T232845Z
URL:https://urologiebeirat.de/veranstaltungen/11-sitzung-des-urologiebeira
 ts/
SUMMARY:11. Sitzung des Urologiebeirats
DESCRIPTION:Thema: "Ökonomie und Gesundheit – wieviel Ökonomie verträg
 t das Gesundheitswesen?“\n\nZeit: voraussichtlich 16:00 bis 18:00 Uhr\n\
 nBitte entnehmen Sie alle weiteren Informationen Ihrer Einladung.\n\n
LOCATION:#_LOCATIONNAME\, #_LOCATIONFULLLINE\, #_LOCATIONCOUNTRY
X-APPLE-STRUCTURED-LOCATION;VALUE=URI;X-ADDRESS=#_LOCATIONFULLLINE\, #_LOCA
 TIONCOUNTRY;X-APPLE-RADIUS=100;X-TITLE=#_LOCATIONNAME:geo:0,0
END:VEVENT
BEGIN:VEVENT
UID:0-10@urologiebeirat.de
DTSTART:20170919T140000Z
DTEND:20170919T160000Z
DTSTAMP:20190901T232845Z
URL:https://urologiebeirat.de/veranstaltungen/10-sitzung-des-urologiebeira
 ts/
SUMMARY:10. Sitzung des Urologiebeirats
DESCRIPTION:Die Sitzung findet am Dienstag\, den 19 September 2017 in der Z
 eit von 16:00 bis 18:00 Uhr in Dresden am Vortag des Urologen-Kongresses s
 tatt.
LOCATION:#_LOCATIONNAME\, #_LOCATIONFULLLINE\, #_LOCATIONCOUNTRY
X-APPLE-STRUCTURED-LOCATION;VALUE=URI;X-ADDRESS=#_LOCATIONFULLLINE\, #_LOCA
 TIONCOUNTRY;X-APPLE-RADIUS=100;X-TITLE=#_LOCATIONNAME:geo:0,0
END:VEVENT
BEGIN:VEVENT
UID:0-9@urologiebeirat.de
DTSTART:20170517T143000Z
DTEND:20170517T163000Z
DTSTAMP:20190901T232845Z
URL:https://urologiebeirat.de/veranstaltungen/9-sitzung-des-urologiebeirat
 s/
SUMMARY:9. Sitzung des Urologiebeirats
DESCRIPTION:Am Mittwoch\, den 17. Mai 2017 findet von 16:30 bis ca. 18:30 U
 hr die 9. Sitzung des Urologiebeirats in Berlin statt. \n\nThema: \n„Vis
 ion und Realität  - Selektivverträge als Instrument zur Überwindung der
  Sektorengrenzen Facharzt/Hausarzt &amp\; ambulant/stationär“\nEs erwar
 tet Sie einen spannenden Impulsvortrag und eine lebhafte Diskussion.\n\nRe
 ferent:\n\nDr. med. Dirk Heinrich\nVorsitzender des Vorstands des Spitzenv
 erband Fachärzte Deutschlands e.V.\nPräsident des Deutschen Berufsverban
 ds der Hals-Nasen-Ohrenärzte e.V.\nBundesvorsitzender des NAV-Virchowbund
 es\n\nVeranstaltungsort: \n\nBitte entnehmen Sie den Veranstaltungsort Ihr
 er persönlichen Einladung oder fragen Sie direkt bei  uns an.\n\nBitte be
 stätigen Sie Ihre Teilnahme bis zum 10. Mai 2017 unter\nE-Mail: urologieb
 eirat@bdu-urologie.de\n
LOCATION:#_LOCATIONNAME\, #_LOCATIONFULLLINE\, #_LOCATIONCOUNTRY
X-APPLE-STRUCTURED-LOCATION;VALUE=URI;X-ADDRESS=#_LOCATIONFULLLINE\, #_LOCA
 TIONCOUNTRY;X-APPLE-RADIUS=100;X-TITLE=#_LOCATIONNAME:geo:0,0
END:VEVENT
BEGIN:VEVENT
UID:0-8@urologiebeirat.de
DTSTART:20160927T140000Z
DTEND:20160927T160000Z
DTSTAMP:20190901T232845Z
URL:https://urologiebeirat.de/veranstaltungen/8-sitzung-des-urologiebeirat
 s-zum-antikorruptionsgesetz/
SUMMARY:8. Sitzung des Urologiebeirats zum "Antikorruptionsgesetz“
DESCRIPTION:In dieser Sitzung am Vortag des 68. Urologen-Kongresses wird da
 s neue Antikorruptionsgesetz im Spannungsfeld Ärzteschaft / Klinik / Wirt
 schaft im Mittelpunkt stehen. Wir erwarten interessante Impulsvorträge un
 d eine intensive Diskussion mit den Teilnehmerinnen und Teilnehmern.\nProg
 ramm\n\n\n\n16:00 Uhr\nAnkunft\n\n16:10 Uhr\nBegrüßung und Einführung\n
 \nDas neue Antikorruptionsgesetz aus Sicht des Berufsverbandes\nDr. Axel S
 chroeder\nPräsident | Berufsverband der Deutschen Urologie e.V.\n\nModera
 tion: Thomas Hegemann\nCGC GbR \, Heidelberg\n\n16:20 Uhr\n§§ 299a\, 299
 b | Der Stand der Dinge\nProf. Dr. Hendrik Schneider\nLehrstuhl für Straf
 recht\, Strafprozessrecht\, Kriminologie\,\nJugendstrafrecht und Strafvoll
 zugsrecht an der Universität Leipzig\n\n\n16:40 Uhr\nErfahrungen einer Kr
 ankenhausgesellschaft\nAssessor jur. Friedrich R. München\nStellvertreten
 der Geschäftsführer und Leiter Fachbereich Rechts- und\nVertragsangelege
 nheiten der Krankenhausgesellschaft Sachsen e.V.\n\n\n17:00 Uhr\nErfahrung
 en der pharmazeutischen Industrie\nRA Ulf Zumdick\nGeschäftsfeldleiter Re
 cht/Arzneimittelrecht beim\nBundesverband der Pharmazeutischen Industrie e
 .V.\n\n\n17:20 Uhr\nDiskussion der Referenten\nmit den Teilnehmerinnen und
  Teilnehmern\n\n\n18:00 Uhr\nAusklang mit Imbiss\n\n\n
LOCATION:#_LOCATIONNAME\, #_LOCATIONFULLLINE\, #_LOCATIONCOUNTRY
X-APPLE-STRUCTURED-LOCATION;VALUE=URI;X-ADDRESS=#_LOCATIONFULLLINE\, #_LOCA
 TIONCOUNTRY;X-APPLE-RADIUS=100;X-TITLE=#_LOCATIONNAME:geo:0,0
END:VEVENT
BEGIN:VEVENT
UID:0-7@urologiebeirat.de
DTSTART:20160601T160000Z
DTEND:20160601T160000Z
DTSTAMP:20190901T232845Z
URL:https://urologiebeirat.de/veranstaltungen/7-sitzung-des-urologiebeirat
 s-erste-erfahrungen-mit-dem-innovationsfonds-erfolgsmodell-oder-nachbesser
 ungsbedarf/
SUMMARY:7. Sitzung des Urologiebeirats: „Erste Erfahrungen mit dem Innova
 tionsfonds – Erfolgsmodell oder Nachbesserungsbedarf?“
DESCRIPTION:Am Mittwoch\, den 1. Juni 2016 (Beginn 18.00 Uhr) tagt der Urol
 ogieBeirat des Berufsverbandes der Deutschen Urologen e.V. (BDU). Diesmal 
 geht es um das Thema „Erste Erfahrungen mit dem Innovationsfonds – Erf
 olgsmodell oder Nachbesserungsbedarf?“ Dazu wird es Vorträge über den 
 aktuellen Stand zum Innovationsfonds sowie die verschiedenen Erwartungshal
 tungen aus Sicht des G-BA\, der Krankenkassen und der Politik geben.\n\nIm
  Anschluss an die Impulsvorträge von Prof. Josef Hecken (Vorsitzender des
  Gemeinsamen Bundesausschusses und des Innovationsausschusses)\, Dr. Mani 
 Rafii (Mitglied des Vorstandes BARMER GEK) sowie Dr. Edgar Franke MdB (Vor
 sitzender des Gesundheitsausschusses im Deutschen Bundestag) folgt eine mo
 derierte Diskussion mit den Referenten und dem Präsidenten des Berufsverb
 andes der Deutschen Urologen e.V. Dr. Axel Schroeder.\n \nBitte beachten S
 ie\, dass es aus räumlichen Gründen für diese Veranstaltung nur eine be
 grenzte Anzahl von Teilnehmerplätzen gibt. Nach vorheriger Anmeldung (und
  Teilnahmebestätigung durch den BDU) sind Sie willkommen in den Räumen d
 er Deutschen Parlamentarischen Gesellschaft in Berlin. \n\nNutzen Sie für
  Ihre Anmeldung gerne unser &rarr\;Kontaktformular.
LOCATION:#_LOCATIONNAME\, #_LOCATIONFULLLINE\, #_LOCATIONCOUNTRY
X-APPLE-STRUCTURED-LOCATION;VALUE=URI;X-ADDRESS=#_LOCATIONFULLLINE\, #_LOCA
 TIONCOUNTRY;X-APPLE-RADIUS=100;X-TITLE=#_LOCATIONNAME:geo:0,0
END:VEVENT
BEGIN:VEVENT
UID:0-6@urologiebeirat.de
DTSTART:20150922T140000Z
DTEND:20150922T170000Z
DTSTAMP:20190901T232845Z
URL:https://urologiebeirat.de/veranstaltungen/arzneimittelerstattung-vom-a
 mnog-zum-pharmadialog/
SUMMARY:6. Sitzung des Urologiebeirats: „Arzneimittelerstattung vom AMNOG
  zum Pharmadialog“
DESCRIPTION:\nProgramm\nEine Veranstaltung des Urologie-Beirates\n\n&rarr\;
  Weiter zur Nachbetrachtung der Veranstaltung\n\n
LOCATION:#_LOCATIONNAME\, #_LOCATIONFULLLINE\, #_LOCATIONCOUNTRY
X-APPLE-STRUCTURED-LOCATION;VALUE=URI;X-ADDRESS=#_LOCATIONFULLLINE\, #_LOCA
 TIONCOUNTRY;X-APPLE-RADIUS=100;X-TITLE=#_LOCATIONNAME:geo:0,0
END:VEVENT
BEGIN:VEVENT
UID:0-5@urologiebeirat.de
DTSTART:20150506T160000Z
DTEND:20150506T180000Z
DTSTAMP:20190901T232845Z
URL:https://urologiebeirat.de/veranstaltungen/urologiebeiratssitzung-selet
 ektivvertraege/
SUMMARY:5. Sitzung des Urologiebeirats: "Seletektivverträge"
DESCRIPTION:Am Mittwoch\, den 6. Mai tagt der UrologieBeirat des Berufsverb
 andes der Deutschen Urologen. Diesmal geht es um das Thema „Selektivvert
 räge“.
LOCATION:#_LOCATIONNAME\, #_LOCATIONFULLLINE\, #_LOCATIONCOUNTRY
X-APPLE-STRUCTURED-LOCATION;VALUE=URI;X-ADDRESS=#_LOCATIONFULLLINE\, #_LOCA
 TIONCOUNTRY;X-APPLE-RADIUS=100;X-TITLE=#_LOCATIONNAME:geo:0,0
END:VEVENT
BEGIN:VEVENT
UID:0-4@urologiebeirat.de
DTSTART:20140930T140000Z
DTEND:20140930T163000Z
DTSTAMP:20190901T232845Z
URL:https://urologiebeirat.de/veranstaltungen/4-sitzung-des-urologiebeirat
 s-kodex-aktuelle-und-zukuenftige-kooperationen-zwischen-industrie-und-aerz
 teschaft/
SUMMARY:4. Sitzung des Urologiebeirats: „Kodex – Aktuelle und zukünfti
 ge Kooperationen zwischen Industrie und Ärzteschaft“
DESCRIPTION:SAVE THE DATE: Sitzung UrologieBeirat - 30. September 2014\, 16
 .00 Uhr\nSchnellenburg\, Rotterdamer Straße 120\, 40474 Düsseldorf
LOCATION:#_LOCATIONNAME\, #_LOCATIONFULLLINE\, #_LOCATIONCOUNTRY
X-APPLE-STRUCTURED-LOCATION;VALUE=URI;X-ADDRESS=#_LOCATIONFULLLINE\, #_LOCA
 TIONCOUNTRY;X-APPLE-RADIUS=100;X-TITLE=#_LOCATIONNAME:geo:0,0
END:VEVENT
BEGIN:VEVENT
UID:0-3@urologiebeirat.de
DTSTART:20140522T160000Z
DTEND:20140522T180000Z
DTSTAMP:20190901T232845Z
URL:https://urologiebeirat.de/veranstaltungen/fruehjahrssitzung-der-gesund
 e-mann-eine-bedrohung-fuer-die-volkswirtschaft/
SUMMARY:3. Sitzung des Urologiebeirats: „Der gesunde Mann – eine Bedroh
 ung für die Volkswirtschaft?“
DESCRIPTION:Der gesunde Mann – eine Bedrohung für die Volkswirtschaft? U
 nter diesem etwas provokanten Titel möchten wir gerne mit Ihnen über Mä
 nnergesundheit diskutieren\, nachdem dieses Thema es  sogar in den Koaliti
 onsvertrag geschafft hat.
LOCATION:#_LOCATIONNAME\, #_LOCATIONFULLLINE\, #_LOCATIONCOUNTRY
X-APPLE-STRUCTURED-LOCATION;VALUE=URI;X-ADDRESS=#_LOCATIONFULLLINE\, #_LOCA
 TIONCOUNTRY;X-APPLE-RADIUS=100;X-TITLE=#_LOCATIONNAME:geo:0,0
END:VEVENT
BEGIN:VEVENT
UID:0-2@urologiebeirat.de
DTSTART:20130601T150000Z
DTEND:20130601T170000Z
DTSTAMP:20190901T232845Z
URL:https://urologiebeirat.de/veranstaltungen/1-sitzung-des-urologiebeirat
 s/
SUMMARY:1. Sitzung des Urologiebeirats
DESCRIPTION:Es handelt sich in erster Linie um eine Informationsveranstaltu
 ng.\n\nDie 2. Sitzung des Urologieberates wird am 24. September 2013 statt
 finden.
LOCATION:#_LOCATIONNAME\, #_LOCATIONFULLLINE\, #_LOCATIONCOUNTRY
X-APPLE-STRUCTURED-LOCATION;VALUE=URI;X-ADDRESS=#_LOCATIONFULLLINE\, #_LOCA
 TIONCOUNTRY;X-APPLE-RADIUS=100;X-TITLE=#_LOCATIONNAME:geo:0,0
END:VEVENT
BEGIN:VEVENT
UID:0-1@urologiebeirat.de
DTSTART:20130508T130000Z
DTEND:20130508T170000Z
DTSTAMP:20190901T232845Z
URL:https://urologiebeirat.de/veranstaltungen/konstituierende-sitzung-des-
 urologiebeirats-des-berufsverbandes-der-deutschen-urologen-e-v/
SUMMARY:Konstituierende Sitzung des Urologiebeirats des Berufsverbandes der
  Deutschen Urologen e.V.
DESCRIPTION:Konstituierende Sitzung des Urologiebeirats des Berufsverbandes
  der Deutschen Urologen e.V.\n\nLandesvertretung Hamburg\, Berlin
LOCATION:#_LOCATIONNAME\, #_LOCATIONFULLLINE\, #_LOCATIONCOUNTRY
X-APPLE-STRUCTURED-LOCATION;VALUE=URI;X-ADDRESS=#_LOCATIONFULLLINE\, #_LOCA
 TIONCOUNTRY;X-APPLE-RADIUS=100;X-TITLE=#_LOCATIONNAME:geo:0,0
END:VEVENT
BEGIN:VTIMEZONE
TZID:Europe/Berlin
X-LIC-LOCATION:Europe/Berlin
BEGIN:STANDARD
DTSTART:20201025T020000
TZOFFSETFROM:+0200
TZOFFSETTO:+0100
TZNAME:CET
END:STANDARD
BEGIN:DAYLIGHT
DTSTART:20210328T030000
TZOFFSETFROM:+0100
TZOFFSETTO:+0200
TZNAME:CEST
END:DAYLIGHT
BEGIN:STANDARD
DTSTART:20211031T020000
TZOFFSETFROM:+0200
TZOFFSETTO:+0100
TZNAME:CET
END:STANDARD
BEGIN:DAYLIGHT
DTSTART:20220327T030000
TZOFFSETFROM:+0100
TZOFFSETTO:+0200
TZNAME:CEST
END:DAYLIGHT
BEGIN:STANDARD
DTSTART:20221030T020000
TZOFFSETFROM:+0200
TZOFFSETTO:+0100
TZNAME:CET
END:STANDARD
BEGIN:DAYLIGHT
DTSTART:20230326T030000
TZOFFSETFROM:+0100
TZOFFSETTO:+0200
TZNAME:CEST
END:DAYLIGHT
BEGIN:STANDARD
DTSTART:20231029T020000
TZOFFSETFROM:+0200
TZOFFSETTO:+0100
TZNAME:CET
END:STANDARD
BEGIN:DAYLIGHT
DTSTART:20240331T030000
TZOFFSETFROM:+0100
TZOFFSETTO:+0200
TZNAME:CEST
END:DAYLIGHT
BEGIN:STANDARD
DTSTART:20241027T020000
TZOFFSETFROM:+0200
TZOFFSETTO:+0100
TZNAME:CET
END:STANDARD
BEGIN:DAYLIGHT
DTSTART:20250330T030000
TZOFFSETFROM:+0100
TZOFFSETTO:+0200
TZNAME:CEST
END:DAYLIGHT
END:VTIMEZONE
END:VCALENDAR